Workbook
Name BudgetLineList: 'Coversheet & Instructions'!#REF!
Name local: 'Coversheet & Instructions'!#REF!
Name total_cost: '[1]Worksheet 1 Project budget'!$E$56
Name total_cost_y1: '[1]Worksheet 1 Project budget'!$I$56

Sheet Information
B2: General Information
B3: Nota Bene The Grant Coordinator alone is responsible for ensuring that the financial information provided in these tables is correct. Forecast budget and follow-up In accordance with Article 15.1 of the General Conditions, a forecast budget for the subsequent reporting period or for the remaining period (if shorter) must be provided alongside any request for payment of further pre-financing. Interim Report & Final Report Additional information on expenditure incurred in local or other currencies than the euro may be asked by the Contracting Authority. Addenda and use of contingencies To be filled in case of an addendum and/or when contingencies are used. Roundings Figures have to be rounded to the nearest euro cent.

Sheet Coversheet & Instructions
J1: Reporting Period | K1: Main Heading | L1: 1. Human Resources | M1: 2. Travel | N1: 3. Other direct costs | O1: Category | P1: Subcategory | R1: Currency | S1: Country | T1: Currency | U1: isoA3Code
B2: Action Title | C2: Action Title | J2: {=_xlfn.UNIQUE(B20:B29)} -> IR1 | K2: 1. Human Resources | L2: 1.1 | M2: 2.1 | N2: 3.1 | O2: 1. Human Resources | P2: 1.1 | U2: Select currency
B3: Grant Contract No. | C3: Grant Contract No. | J3: IR2 | K3: 2. Travel | L3: 1.2 | M3: 2.2 | N3: 3.2 | O3: 1. Human Resources | P3: 1.2 | R3: =CONCATENATE(U3," - ",T3) -> AED - United Arab Emirates dirham | S3: United Arab Emirates | T3: United Arab Emirates dirham | U3: AED
B4: Contract duration (no. of months) | C4: 48 | D4: Contract Start Date | E4: 46204 | F4: Contract End Date | G4: =EDATE(E4,C4)-1 -> 47664 | J4: IR3 | K4: 3. Other direct costs | L4: 1.3 | M4: 2.3 | N4: 3.3 | O4: 1. Human Resources | P4: 1.3 | R4: =CONCATENATE(U4," - ",T4) -> AFN - Afghan afghani | S4: Afghanistan | T4: Afghan afghani | U4: AFN
J5: Final Report | L5: 1.4 | M5: 2.4 | N5: 3.4 | O5: 1. Human Resources | P5: 1.4 | R5: =CONCATENATE(U5," - ",T5) -> ALL - Albanian lek | S5: Albania | T5: Albanian lek | U5: ALL
C6: ↓ Please enter each Beneficiary's Name ↓ | G6: Total Amount (EUR) | L6: 1.5 | M6: 2.5 | N6: 3.5 | O6: 1. Human Resources | P6: 1.5 | R6: =CONCATENATE(U6," - ",T6) -> AMD - Armenian dram | S6: Armenia | T6: Armenian dram | U6: AMD
B7: Beneficiary 1 | C7: Grant Coordinator | G7: =IFERROR(SUMIF('List of expenditure'!$B$8:$B$197,C7,'List of expenditure'!$L$8:$L$197),0) -> 0 | L7: 1.6 | M7: 2.6 | N7: 3.6 | O7: 1. Human Resources | P7: 1.6 | R7: =CONCATENATE(U7," - ",T7) -> AOA - Angolan kwanza | S7: Angola | T7: Angolan kwanza | U7: AOA
B8: Beneficiary 2 | C8: Co-beneficiary 1 | L8: 1.7 | M8: 2.7 | N8: 3.7 | O8: 1. Human Resources | P8: 1.7 | R8: =CONCATENATE(U8," - ",T8) -> ARS - Argentine peso | S8: Argentina | T8: Argentine peso | U8: ARS
B9: Beneficiary 3 | C9: Co-beneficiary 2 | G9: =IFERROR(SUMIF('List of expenditure'!$B$8:$B$197,C9,'List of expenditure'!$L$8:$L$197),0) -> 0 | L9: 1.8 | M9: 2.8 | N9: 3.8 | O9: 1. Human Resources | P9: 1.8 | R9: =CONCATENATE(U9," - ",T9) -> AUD - Australian dollar | S9: Australia | T9: Australian dollar | U9: AUD
B10: Beneficiary 4 | C10: Co-beneficiary 3 | G10: =IFERROR(SUMIF('List of expenditure'!$B$8:$B$197,C10,'List of expenditure'!$L$8:$L$197),0) -> 0 | L10: 1.9 | M10: 2.9 | N10: 3.9 | O10: 1. Human Resources | P10: 1.9 | R10: =CONCATENATE(U10," - ",T10) -> AWG - Aruban florin | S10: Aruba | T10: Aruban florin | U10: AWG
B11: Beneficiary 5 | C11: Co-beneficiary 4 | G11: =IFERROR(SUMIF('List of expenditure'!$B$8:$B$197,C11,'List of expenditure'!$L$8:$L$197),0) -> 0 | L11: 1.1 | M11: 2.1 | N11: 3.1 | O11: 1. Human Resources | P11: 1.1 | R11: =CONCATENATE(U11," - ",T11) -> AZN - Azerbaijan Manat | S11: Azerbaijan | T11: Azerbaijan Manat | U11: AZN
B12: Beneficiary 6 | C12: Co-beneficiary 5 | G12: =IFERROR(SUMIF('List of expenditure'!$B$8:$B$197,C12,'List of expenditure'!$L$8:$L$197),0) -> 0 | L12: 1.11 | M12: 2.11 | N12: 3.11 | O12: 1. Human Resources | P12: 1.11 | R12: =CONCATENATE(U12," - ",T12) -> BAM - Bosnia and Herzegovina convertible mark | S12: Bosnia and Herzegovina | T12: Bosnia and Herzegovina convertible mark | U12: BAM
B13: Beneficiary 7 | C13: Co-beneficiary 6 | G13: =IFERROR(SUMIF('List of expenditure'!$B$8:$B$197,C13,'List of expenditure'!$L$8:$L$197),0) -> 0 | L13: 1.12 | M13: 2.12 | N13: 3.12 | O13: 1. Human Resources | P13: 1.12 | R13: =CONCATENATE(U13," - ",T13) -> BBD - Barbados dollar | S13: Barbados | T13: Barbados dollar | U13: BBD
B14: Beneficiary 8 | C14: Co-beneficiary 7 | G14: =IFERROR(SUMIF('List of expenditure'!$B$8:$B$197,C14,'List of expenditure'!$L$8:$L$197),0) -> 0 | L14: 1.13 | M14: 2.13 | N14: 3.13 | O14: 1. Human Resources | P14: 1.13 | R14: =CONCATENATE(U14," - ",T14) -> BDT - Bangladeshi taka | S14: Bangladesh | T14: Bangladeshi taka | U14: BDT
B15: Beneficiary 9 | C15: Co-beneficiary 8 | G15: =IFERROR(SUMIF('List of expenditure'!$B$8:$B$197,C15,'List of expenditure'!$L$8:$L$197),0) -> 0 | L15: 1.14 | M15: 2.14 | N15: 3.14 | O15: 1. Human Resources | P15: 1.14 | R15: =CONCATENATE(U15," - ",T15) -> BGN - Bulgarian lev | S15: Bulgaria | T15: Bulgarian lev | U15: BGN
B16: Beneficiary 10 | C16: Co-beneficiary 9 | G16: =IFERROR(SUMIF('List of expenditure'!$B$8:$B$197,C16,'List of expenditure'!$L$8:$L$197),0) -> 0 | L16: 1.15 | M16: 2.15 | N16: 3.15 | O16: 1. Human Resources | P16: 1.15 | R16: =CONCATENATE(U16," - ",T16) -> BHD - Bahraini dinar | S16: Bahrain | T16: Bahraini dinar | U16: BHD
F17: Grand Total (EUR) | G17: =SUM(G7:G16) -> 0 | L17: 1.16 | M17: 2.16 | N17: 3.16 | O17: 1. Human Resources | P17: 1.16 | R17: =CONCATENATE(U17," - ",T17) -> BIF - Burundi franc | S17: Burundi | T17: Burundi franc | U17: BIF
L18: 1.17 | M18: 2.17 | N18: 3.17 | O18: 1. Human Resources | P18: 1.17 | R18: =CONCATENATE(U18," - ",T18) -> BMD - Bermudian dollar | S18: Bermuda | T18: Bermudian dollar | U18: BMD
C19: Report Start Period | D19: Report End Period | L19: 1.18 | M19: 2.18 | N19: 3.18 | O19: 1. Human Resources | P19: 1.18 | R19: =CONCATENATE(U19," - ",T19) -> BND - Brunei dollar | S19: Brunei | T19: Brunei dollar | U19: BND
B20: IR1 | C20: =E4 -> 46204 | D20: =IF(C20="","",(IF((EDATE(C20,12)-1)>$G$4,$G$4,(EDATE(C20,$F$23)-1)))) -> 46568 | F20: Please enter the reporting period (no. of months) as per Article 4.1 of the ↓ Special Conditions ↓ | L20: 1.19 | M20: 2.19 | N20: 3.19 | O20: 1. Human Resources | P20: 1.19 | R20: =CONCATENATE(U20," - ",T20) -> BOB - Bolivian boliviano | S20: Bolivia | T20: Bolivian boliviano | U20: BOB
B21: IR2 | C21: =IF(D20="","",(IF((D20+1)>$G$4,"",(D20+1)))) -> 46569 | D21: =IF(C21="","",(IF((EDATE(C21,12)-1)>$G$4,$G$4,(EDATE(C21,$F$23)-1)))) -> 46934 | L21: 1.2 | M21: 2.2 | N21: 3.2 | O21: 1. Human Resources | P21: 1.2 | R21: =CONCATENATE(U21," - ",T21) -> BRL - Brazilian real | S21: Brazil | T21: Brazilian real | U21: BRL
B22: IR3 | C22: =IF(D21="","",(IF((D21+1)>$G$4,"",(D21+1)))) -> 46935 | D22: =IF(C22="","",(IF((EDATE(C22,12)-1)>$G$4,$G$4,(EDATE(C22,$F$23)-1)))) -> 47299 | N22: 3.21 | O22: 2. Travel | P22: 2.1 | R22: =CONCATENATE(U22," - ",T22) -> BSD - Bahamian dollar | S22: Bahamas (the) | T22: Bahamian dollar | U22: BSD
B23: Final Report | C23: =IF(D22="","",(IF((D22+1)>$G$4,"",(D22+1)))) -> 47300 | D23: =IF(C23="","",(IF((EDATE(C23,12)-1)>$G$4,$G$4,(EDATE(C23,$F$23)-1)))) -> 47664 | F23: 12 | N23: 3.22 | O23: 2. Travel | P23: 2.2 | R23: =CONCATENATE(U23," - ",T23) -> BTN - Bhutanese ngultrum | S23: Bhutan | T23: Bhutanese ngultrum | U23: BTN
B24: =IF(D24="","",(IF(D24=$G$4,"Final Report","IR5"))) | C24: =IF(D23="","",(IF((D23+1)>$G$4,"",(D23+1)))) | D24: =IF(C24="","",(IF((EDATE(C24,12)-1)>$G$4,$G$4,(EDATE(C24,$F$23)-1)))) | N24: 3.23 | O24: 2. Travel | P24: 2.3 | R24: =CONCATENATE(U24," - ",T24) -> BWP - Botswana pula | S24: Botswana | T24: Botswana pula | U24: BWP
B25: =IF(D25="","",(IF(D25=$G$4,"Final Report","IR6"))) | C25: =IF(D24="","",(IF((D24+1)>$G$4,"",(D24+1)))) | D25: =IF(C25="","",(IF((EDATE(C25,12)-1)>$G$4,$G$4,(EDATE(C25,$F$23)-1)))) | F25: Please select current reporting ↓ exercise ↓ | N25: 3.24 | O25: 2. Travel | P25: 2.4 | R25: =CONCATENATE(U25," - ",T25) -> BYN - Belarussian rouble | S25: Belarus | T25: Belarussian rouble | U25: BYN
B26: =IF(D26="","",(IF(D26=$G$4,"Final Report","IR7"))) | C26: =IF(D25="","",(IF((D25+1)>$G$4,"",(D25+1)))) | D26: =IF(C26="","",(IF((EDATE(C26,12)-1)>$G$4,$G$4,(EDATE(C26,$F$23)-1)))) | N26: 3.25 | O26: 2. Travel | P26: 2.5 | R26: =CONCATENATE(U26," - ",T26) -> BZD - Belize dollar | S26: Belize | T26: Belize dollar | U26: BZD
B27: =IF(D27="","",(IF(D27=$G$4,"Final Report","IR8"))) | C27: =IF(D26="","",(IF((D26+1)>$G$4,"",(D26+1)))) | D27: =IF(C27="","",(IF((EDATE(C27,12)-1)>$G$4,$G$4,(EDATE(C27,$F$23)-1)))) | N27: 3.26 | O27: 2. Travel | P27: 2.6 | R27: =CONCATENATE(U27," - ",T27) -> CAD - Canadian dollar | S27: Canada | T27: Canadian dollar | U27: CAD
B28: =IF(D28="","",(IF(D28=$G$4,"Final Report","IR9"))) | C28: =IF(D27="","",(IF((D27+1)>$G$4,"",(D27+1)))) | D28: =IF(C28="","",(IF((EDATE(C28,12)-1)>$G$4,$G$4,(EDATE(C28,$F$23)-1)))) | F28: IR1 | N28: 3.27 | O28: 2. Travel | P28: 2.7 | R28: =CONCATENATE(U28," - ",T28) -> CDF - Congolese franc | S28: Congo (Democratic Republic of) | T28: Congolese franc | U28: CDF
B29: =IF(D28="","",(IF(D28=$G$4,"Final Report","IR10"))) | C29: =IF(D28="","",(IF((D28+1)>$G$4,"",(D28+1)))) | D29: =IF(C29="","",(IF((EDATE(C29,12)-1)>$G$4,$G$4,(EDATE(C29,$F$23)-1)))) | N29: 3.28 | O29: 2. Travel | P29: 2.8 | R29: =CONCATENATE(U29," - ",T29) -> CHF - Swiss franc | S29: Switzerland | T29: Swiss franc | U29: CHF
N30: 3.29 | O30: 2. Travel | P30: 2.9 | R30: =CONCATENATE(U30," - ",T30) -> CLP - Chilean peso | S30: Chile | T30: Chilean peso | U30: CLP
D31: ↓ Please enter the exchange rates ↓ as per | E31: InforEuro | N31: 3.3 | O31: 2. Travel | P31: 2.1 | R31: =CONCATENATE(U31," - ",T31) -> CNY - Chinese Yuan Renminbi | S31: China | T31: Chinese Yuan Renminbi | U31: CNY
B32: Month | C32: EUR | D32: Select currency | E32: Select currency2 | F32: Select currency3 | G32: Select currency4 | O32: 2. Travel | P32: 2.11 | R32: =CONCATENATE(U32," - ",T32) -> COP - Colombian peso | S32: Colombia | T32: Colombian peso | U32: COP
B33: =EOMONTH(VLOOKUP(F28,B20:C29,2,FALSE),-1)+1 -> 46204 | C33: 1 | D33: 46 | O33: 2. Travel | P33: 2.12 | R33: =CONCATENATE(U33," - ",T33) -> CRC - Costa Rican colón | S33: Costa Rica | T33: Costa Rican colón | U33: CRC
B34: =IF(B33="","",(IF((EDATE(B33,1))>(VLOOKUP($F$28,$B$20:$D$29,3,FALSE)),"",(EDATE(B33,1))))) -> 46235 | C34: 1 | O34: 2. Travel | P34: 2.13 | R34: =CONCATENATE(U34," - ",T34) -> CUP - Cuban peso | S34: Cuba | T34: Cuban peso | U34: CUP
B35: =IF(B34="","",(IF((EDATE(B34,1))>(VLOOKUP($F$28,$B$20:$D$29,3,FALSE)),"",(EDATE(B34,1))))) -> 46266 | C35: 1 | O35: 2. Travel | P35: 2.14 | R35: =CONCATENATE(U35," - ",T35) -> CVE - Cape Verde escudo | S35: Cape Verde | T35: Cape Verde escudo | U35: CVE
B36: =IF(B35="","",(IF((EDATE(B35,1))>(VLOOKUP($F$28,$B$20:$D$29,3,FALSE)),"",(EDATE(B35,1))))) -> 46296 | C36: 1 | O36: 2. Travel | P36: 2.15 | R36: =CONCATENATE(U36," - ",T36) -> CZK - Czech koruna | S36: Czechia | T36: Czech koruna | U36: CZK
B37: =IF(B36="","",(IF((EDATE(B36,1))>(VLOOKUP($F$28,$B$20:$D$29,3,FALSE)),"",(EDATE(B36,1))))) -> 46327 | C37: 1 | O37: 2. Travel | P37: 2.16 | R37: =CONCATENATE(U37," - ",T37) -> DJF - Djibouti franc | S37: Djibouti | T37: Djibouti franc | U37: DJF
B38: =IF(B37="","",(IF((EDATE(B37,1))>(VLOOKUP($F$28,$B$20:$D$29,3,FALSE)),"",(EDATE(B37,1))))) -> 46357 | C38: 1 | O38: 2. Travel | P38: 2.17 | R38: =CONCATENATE(U38," - ",T38) -> DKK - Danish krone | S38: Denmark | T38: Danish krone | U38: DKK
B39: =IF(B38="","",(IF((EDATE(B38,1))>(VLOOKUP($F$28,$B$20:$D$29,3,FALSE)),"",(EDATE(B38,1))))) -> 46388 | C39: 1 | O39: 2. Travel | P39: 2.18 | R39: =CONCATENATE(U39," - ",T39) -> DOP - Dominican peso | S39: Dominican Republic | T39: Dominican peso | U39: DOP
B40: =IF(B39="","",(IF((EDATE(B39,1))>(VLOOKUP($F$28,$B$20:$D$29,3,FALSE)),"",(EDATE(B39,1))))) -> 46419 | C40: 1 | O40: 2. Travel | P40: 2.19 | R40: =CONCATENATE(U40," - ",T40) -> DZD - Algerian dinar | S40: Algeria | T40: Algerian dinar | U40: DZD
...

Sheet List of expenditure
D2: Action Title | E2: ='Coversheet & Instructions'!C2 -> Action Title
D3: Grant Contract No. | E3: ='Coversheet & Instructions'!C3 -> Grant Contract No. | K3: Total direct cost reported
D4: Report No. | E4: ='Coversheet & Instructions'!F28 -> IR1 | F4: Rerporting Period Start Date | G4: =VLOOKUP(E4,'Coversheet & Instructions'!B20:D29,2,FALSE) -> 46204 | H4: Reporting Period End Date | I4: =VLOOKUP(E4,'Coversheet & Instructions'!B20:D29,3,FALSE) -> 46568 | K4: =SUM(Table1[Amount in EUR]) -> 0
A6: List of Expenditure
A7: V-NO | B7: Beneficiary | C7: Accounting Reference | D7: Main Budget Heading | E7: Budget Line | F7: Description | G7: Invoice Date (for staff costs please enter last date of applicable salary month) | H7: Recipient (e.g. supplier, traveller, staff member) | I7: Amount in original currency | J7: Original currency | K7: Exchange rate | L7: Amount in EUR | M7: Period Check | N7: Exchange Rate Check
A8: 1 | J8: EUR | K8: =+IFERROR(INDEX(Table5[],MATCH(DATE(YEAR(G8),MONTH(G8),1),Table5[Month],0),MATCH(J8,Table5[#Headers],0)),"Rate Not Found") -> Rate Not Found | L8: =IF(Table1[[#This Row],[Amount in original currency]]=0,"",(Table1[[#This Row],[Amount in original currency]]/Table1[[#This Row],[Exchange rate]])) | M8: =IF(ISBLANK(G8),"",IF(AND(G8>=$G$4,G8<=$I$4),"Within","Outside reporting period")) | N8: =IF(OR(ISBLANK(J8),ISBLANK(G8),ISBLANK(K8)),"",IFERROR(IF(K8=INDEX('EC Rates Auto Load '!$F$2:$K$154,MATCH(J8,'EC Rates Auto Load '!$C$2:$C$154,0),MONTH(G8)),"Correct Fx Rate","Incorrect FX Rate"),"Currency not found"))
A9: 2 | J9: EUR | K9: =+IFERROR(INDEX(Table5[],MATCH(DATE(YEAR(G9),MONTH(G9),1),Table5[Month],0),MATCH(J9,Table5[#Headers],0)),"Rate Not Found") -> Rate Not Found | L9: =IF(Table1[[#This Row],[Amount in original currency]]=0,"",(Table1[[#This Row],[Amount in original currency]]/Table1[[#This Row],[Exchange rate]])) | M9: =IF(ISBLANK(G9),"",IF(AND(G9>=$G$4,G9<=$I$4),"Within","Outside reporting period")) | N9: =IF(OR(ISBLANK(J9),ISBLANK(G9),ISBLANK(K9)),"",IFERROR(IF(K9=INDEX('EC Rates Auto Load '!$F$2:$K$154,MATCH(J9,'EC Rates Auto Load '!$C$2:$C$154,0),MONTH(G9)),"Correct Fx Rate","Incorrect FX Rate"),"Currency not found"))
A10: 3 | J10: EUR | K10: =+IFERROR(INDEX(Table5[],MATCH(DATE(YEAR(G10),MONTH(G10),1),Table5[Month],0),MATCH(J10,Table5[#Headers],0)),"Rate Not Found") -> Rate Not Found | L10: =IF(Table1[[#This Row],[Amount in original currency]]=0,"",(Table1[[#This Row],[Amount in original currency]]/Table1[[#This Row],[Exchange rate]])) | M10: =IF(ISBLANK(G10),"",IF(AND(G10>=$G$4,G10<=$I$4),"Within","Outside reporting period")) | N10: =IF(OR(ISBLANK(J10),ISBLANK(G10),ISBLANK(K10)),"",IFERROR(IF(K10=INDEX('EC Rates Auto Load '!$F$2:$K$154,MATCH(J10,'EC Rates Auto Load '!$C$2:$C$154,0),MONTH(G10)),"Correct Fx Rate","Incorrect FX Rate"),"Currency not found"))
A11: … | J11: EUR | K11: =+IFERROR(INDEX(Table5[],MATCH(DATE(YEAR(G11),MONTH(G11),1),Table5[Month],0),MATCH(J11,Table5[#Headers],0)),"Rate Not Found") -> Rate Not Found | L11: =IF(Table1[[#This Row],[Amount in original currency]]=0,"",(Table1[[#This Row],[Amount in original currency]]/Table1[[#This Row],[Exchange rate]])) | M11: =IF(ISBLANK(G11),"",IF(AND(G11>=$G$4,G11<=$I$4),"Within","Outside reporting period")) | N11: =IF(OR(ISBLANK(J11),ISBLANK(G11),ISBLANK(K11)),"",IFERROR(IF(K11=INDEX('EC Rates Auto Load '!$F$2:$K$154,MATCH(J11,'EC Rates Auto Load '!$C$2:$C$154,0),MONTH(G11)),"Correct Fx Rate","Incorrect FX Rate"),"Currency not found"))
J12: EUR | K12: =+IFERROR(INDEX(Table5[],MATCH(DATE(YEAR(G12),MONTH(G12),1),Table5[Month],0),MATCH(J12,Table5[#Headers],0)),"Rate Not Found") -> Rate Not Found | L12: =IF(Table1[[#This Row],[Amount in original currency]]=0,"",(Table1[[#This Row],[Amount in original currency]]/Table1[[#This Row],[Exchange rate]])) | M12: =IF(ISBLANK(G12),"",IF(AND(G12>=$G$4,G12<=$I$4),"Within","Outside reporting period")) | N12: =IF(OR(ISBLANK(J12),ISBLANK(G12),ISBLANK(K12)),"",IFERROR(IF(K12=INDEX('EC Rates Auto Load '!$F$2:$K$154,MATCH(J12,'EC Rates Auto Load '!$C$2:$C$154,0),MONTH(G12)),"Correct Fx Rate","Incorrect FX Rate"),"Currency not found"))
J13: EUR | K13: =+IFERROR(INDEX(Table5[],MATCH(DATE(YEAR(G13),MONTH(G13),1),Table5[Month],0),MATCH(J13,Table5[#Headers],0)),"Rate Not Found") -> Rate Not Found | L13: =IF(Table1[[#This Row],[Amount in original currency]]=0,"",(Table1[[#This Row],[Amount in original currency]]/Table1[[#This Row],[Exchange rate]])) | M13: =IF(ISBLANK(G13),"",IF(AND(G13>=$G$4,G13<=$I$4),"Within","Outside reporting period")) | N13: =IF(OR(ISBLANK(J13),ISBLANK(G13),ISBLANK(K13)),"",IFERROR(IF(K13=INDEX('EC Rates Auto Load '!$F$2:$K$154,MATCH(J13,'EC Rates Auto Load '!$C$2:$C$154,0),MONTH(G13)),"Correct Fx Rate","Incorrect FX Rate"),"Currency not found"))
J14: EUR | K14: =+IFERROR(INDEX(Table5[],MATCH(DATE(YEAR(G14),MONTH(G14),1),Table5[Month],0),MATCH(J14,Table5[#Headers],0)),"Rate Not Found") -> Rate Not Found | L14: =IF(Table1[[#This Row],[Amount in original currency]]=0,"",(Table1[[#This Row],[Amount in original currency]]/Table1[[#This Row],[Exchange rate]])) | M14: =IF(ISBLANK(G14),"",IF(AND(G14>=$G$4,G14<=$I$4),"Within","Outside reporting period")) | N14: =IF(OR(ISBLANK(J14),ISBLANK(G14),ISBLANK(K14)),"",IFERROR(IF(K14=INDEX('EC Rates Auto Load '!$F$2:$K$154,MATCH(J14,'EC Rates Auto Load '!$C$2:$C$154,0),MONTH(G14)),"Correct Fx Rate","Incorrect FX Rate"),"Currency not found"))
J15: EUR | K15: =+IFERROR(INDEX(Table5[],MATCH(DATE(YEAR(G15),MONTH(G15),1),Table5[Month],0),MATCH(J15,Table5[#Headers],0)),"Rate Not Found") -> Rate Not Found | L15: =IF(Table1[[#This Row],[Amount in original currency]]=0,"",(Table1[[#This Row],[Amount in original currency]]/Table1[[#This Row],[Exchange rate]])) | M15: =IF(ISBLANK(G15),"",IF(AND(G15>=$G$4,G15<=$I$4),"Within","Outside reporting period")) | N15: =IF(OR(ISBLANK(J15),ISBLANK(G15),ISBLANK(K15)),"",IFERROR(IF(K15=INDEX('EC Rates Auto Load '!$F$2:$K$154,MATCH(J15,'EC Rates Auto Load '!$C$2:$C$154,0),MONTH(G15)),"Correct Fx Rate","Incorrect FX Rate"),"Currency not found"))
J16: EUR | K16: =+IFERROR(INDEX(Table5[],MATCH(DATE(YEAR(G16),MONTH(G16),1),Table5[Month],0),MATCH(J16,Table5[#Headers],0)),"Rate Not Found") -> Rate Not Found | L16: =IF(Table1[[#This Row],[Amount in original currency]]=0,"",(Table1[[#This Row],[Amount in original currency]]/Table1[[#This Row],[Exchange rate]])) | M16: =IF(ISBLANK(G16),"",IF(AND(G16>=$G$4,G16<=$I$4),"Within","Outside reporting period")) | N16: =IF(OR(ISBLANK(J16),ISBLANK(G16),ISBLANK(K16)),"",IFERROR(IF(K16=INDEX('EC Rates Auto Load '!$F$2:$K$154,MATCH(J16,'EC Rates Auto Load '!$C$2:$C$154,0),MONTH(G16)),"Correct Fx Rate","Incorrect FX Rate"),"Currency not found"))
J17: EUR | K17: =+IFERROR(INDEX(Table5[],MATCH(DATE(YEAR(G17),MONTH(G17),1),Table5[Month],0),MATCH(J17,Table5[#Headers],0)),"Rate Not Found") -> Rate Not Found | L17: =IF(Table1[[#This Row],[Amount in original currency]]=0,"",(Table1[[#This Row],[Amount in original currency]]/Table1[[#This Row],[Exchange rate]])) | M17: =IF(ISBLANK(G17),"",IF(AND(G17>=$G$4,G17<=$I$4),"Within","Outside reporting period")) | N17: =IF(OR(ISBLANK(J17),ISBLANK(G17),ISBLANK(K17)),"",IFERROR(IF(K17=INDEX('EC Rates Auto Load '!$F$2:$K$154,MATCH(J17,'EC Rates Auto Load '!$C$2:$C$154,0),MONTH(G17)),"Correct Fx Rate","Incorrect FX Rate"),"Currency not found"))
J18: EUR | K18: =+IFERROR(INDEX(Table5[],MATCH(DATE(YEAR(G18),MONTH(G18),1),Table5[Month],0),MATCH(J18,Table5[#Headers],0)),"Rate Not Found") -> Rate Not Found | L18: =IF(Table1[[#This Row],[Amount in original currency]]=0,"",(Table1[[#This Row],[Amount in original currency]]/Table1[[#This Row],[Exchange rate]])) | M18: =IF(ISBLANK(G18),"",IF(AND(G18>=$G$4,G18<=$I$4),"Within","Outside reporting period")) | N18: =IF(OR(ISBLANK(J18),ISBLANK(G18),ISBLANK(K18)),"",IFERROR(IF(K18=INDEX('EC Rates Auto Load '!$F$2:$K$154,MATCH(J18,'EC Rates Auto Load '!$C$2:$C$154,0),MONTH(G18)),"Correct Fx Rate","Incorrect FX Rate"),"Currency not found"))
J19: EUR | K19: =+IFERROR(INDEX(Table5[],MATCH(DATE(YEAR(G19),MONTH(G19),1),Table5[Month],0),MATCH(J19,Table5[#Headers],0)),"Rate Not Found") -> Rate Not Found | L19: =IF(Table1[[#This Row],[Amount in original currency]]=0,"",(Table1[[#This Row],[Amount in original currency]]/Table1[[#This Row],[Exchange rate]])) | M19: =IF(ISBLANK(G19),"",IF(AND(G19>=$G$4,G19<=$I$4),"Within","Outside reporting period")) | N19: =IF(OR(ISBLANK(J19),ISBLANK(G19),ISBLANK(K19)),"",IFERROR(IF(K19=INDEX('EC Rates Auto Load '!$F$2:$K$154,MATCH(J19,'EC Rates Auto Load '!$C$2:$C$154,0),MONTH(G19)),"Correct Fx Rate","Incorrect FX Rate"),"Currency not found"))
J20: EUR | K20: =+IFERROR(INDEX(Table5[],MATCH(DATE(YEAR(G20),MONTH(G20),1),Table5[Month],0),MATCH(J20,Table5[#Headers],0)),"Rate Not Found") -> Rate Not Found | L20: =IF(Table1[[#This Row],[Amount in original currency]]=0,"",(Table1[[#This Row],[Amount in original currency]]/Table1[[#This Row],[Exchange rate]])) | M20: =IF(ISBLANK(G20),"",IF(AND(G20>=$G$4,G20<=$I$4),"Within","Outside reporting period")) | N20: =IF(OR(ISBLANK(J20),ISBLANK(G20),ISBLANK(K20)),"",IFERROR(IF(K20=INDEX('EC Rates Auto Load '!$F$2:$K$154,MATCH(J20,'EC Rates Auto Load '!$C$2:$C$154,0),MONTH(G20)),"Correct Fx Rate","Incorrect FX Rate"),"Currency not found"))
J21: EUR | K21: =+IFERROR(INDEX(Table5[],MATCH(DATE(YEAR(G21),MONTH(G21),1),Table5[Month],0),MATCH(J21,Table5[#Headers],0)),"Rate Not Found") -> Rate Not Found | L21: =IF(Table1[[#This Row],[Amount in original currency]]=0,"",(Table1[[#This Row],[Amount in original currency]]/Table1[[#This Row],[Exchange rate]])) | M21: =IF(ISBLANK(G21),"",IF(AND(G21>=$G$4,G21<=$I$4),"Within","Outside reporting period")) | N21: =IF(OR(ISBLANK(J21),ISBLANK(G21),ISBLANK(K21)),"",IFERROR(IF(K21=INDEX('EC Rates Auto Load '!$F$2:$K$154,MATCH(J21,'EC Rates Auto Load '!$C$2:$C$154,0),MONTH(G21)),"Correct Fx Rate","Incorrect FX Rate"),"Currency not found"))
J22: EUR | K22: =+IFERROR(INDEX(Table5[],MATCH(DATE(YEAR(G22),MONTH(G22),1),Table5[Month],0),MATCH(J22,Table5[#Headers],0)),"Rate Not Found") -> Rate Not Found | L22: =IF(Table1[[#This Row],[Amount in original currency]]=0,"",(Table1[[#This Row],[Amount in original currency]]/Table1[[#This Row],[Exchange rate]])) | M22: =IF(ISBLANK(G22),"",IF(AND(G22>=$G$4,G22<=$I$4),"Within","Outside reporting period")) | N22: =IF(OR(ISBLANK(J22),ISBLANK(G22),ISBLANK(K22)),"",IFERROR(IF(K22=INDEX('EC Rates Auto Load '!$F$2:$K$154,MATCH(J22,'EC Rates Auto Load '!$C$2:$C$154,0),MONTH(G22)),"Correct Fx Rate","Incorrect FX Rate"),"Currency not found"))
J23: EUR | K23: =+IFERROR(INDEX(Table5[],MATCH(DATE(YEAR(G23),MONTH(G23),1),Table5[Month],0),MATCH(J23,Table5[#Headers],0)),"Rate Not Found") -> Rate Not Found | L23: =IF(Table1[[#This Row],[Amount in original currency]]=0,"",(Table1[[#This Row],[Amount in original currency]]/Table1[[#This Row],[Exchange rate]])) | M23: =IF(ISBLANK(G23),"",IF(AND(G23>=$G$4,G23<=$I$4),"Within","Outside reporting period")) | N23: =IF(OR(ISBLANK(J23),ISBLANK(G23),ISBLANK(K23)),"",IFERROR(IF(K23=INDEX('EC Rates Auto Load '!$F$2:$K$154,MATCH(J23,'EC Rates Auto Load '!$C$2:$C$154,0),MONTH(G23)),"Correct Fx Rate","Incorrect FX Rate"),"Currency not found"))
... J41: EUR | K41: =+IFERROR(INDEX(Table5[],MATCH(DATE(YEAR(G41),MONTH(G41),1),Table5[Month],0),MATCH(J41,Table5[#Headers],0)),"Rate Not Found") -> Rate Not Found | L41: =IF(Table1[[#This Row],[Amount in original currency]]=0,"",(Table1[[#This Row],[Amount in original currency]]/Table1[[#This Row],[Exchange rate]])) | M41: =IF(ISBLANK(G41),"",IF(AND(G41>=$G$4,G41<=$I$4),"Within","Outside reporting period")) | N41: =IF(OR(ISBLANK(J41),ISBLANK(G41),ISBLANK(K41)),"",IFERROR(IF(K41=INDEX('EC Rates Auto Load '!$F$2:$K$154,MATCH(J41,'EC Rates Auto Load '!$C$2:$C$154,0),MONTH(G41)),"Correct Fx Rate","Incorrect FX Rate"),"Currency not found"))
K42: =+IFERROR(INDEX(Table5[],MATCH(DATE(YEAR(G42),MONTH(G42),1),Table5[Month],0),MATCH(J42,Table5[#Headers],0)),"Rate Not Found") -> Rate Not Found | L42: =IF(Table1[[#This Row],[Amount in original currency]]=0,"",(Table1[[#This Row],[Amount in original currency]]/Table1[[#This Row],[Exchange rate]])) | M42: =IF(ISBLANK(G42),"",IF(AND(G42>=$G$4,G42<=$I$4),"Within","Outside reporting period")) | N42: =IF(OR(ISBLANK(J42),ISBLANK(G42),ISBLANK(K42)),"",IFERROR(IF(K42=INDEX('EC Rates Auto Load '!$F$2:$K$154,MATCH(J42,'EC Rates Auto Load '!$C$2:$C$154,0),MONTH(G42)),"Correct Fx Rate","Incorrect FX Rate"),"Currency not found"))
K43: =+IFERROR(INDEX(Table5[],MATCH(DATE(YEAR(G43),MONTH(G43),1),Table5[Month],0),MATCH(J43,Table5[#Headers],0)),"Rate Not Found") -> Rate Not Found | L43: =IF(Table1[[#This Row],[Amount in original currency]]=0,"",(Table1[[#This Row],[Amount in original currency]]/Table1[[#This Row],[Exchange rate]])) | M43: =IF(ISBLANK(G43),"",IF(AND(G43>=$G$4,G43<=$I$4),"Within","Outside reporting period")) | N43: =IF(OR(ISBLANK(J43),ISBLANK(G43),ISBLANK(K43)),"",IFERROR(IF(K43=INDEX('EC Rates Auto Load '!$F$2:$K$154,MATCH(J43,'EC Rates Auto Load '!$C$2:$C$154,0),MONTH(G43)),"Correct Fx Rate","Incorrect FX Rate"),"Currency not found"))
K44: =+IFERROR(INDEX(Table5[],MATCH(DATE(YEAR(G44),MONTH(G44),1),Table5[Month],0),MATCH(J44,Table5[#Headers],0)),"Rate Not Found") -> Rate Not Found | L44: =IF(Table1[[#This Row],[Amount in original currency]]=0,"",(Table1[[#This Row],[Amount in original currency]]/Table1[[#This Row],[Exchange rate]])) | M44: =IF(ISBLANK(G44),"",IF(AND(G44>=$G$4,G44<=$I$4),"Within","Outside reporting period")) | N44: =IF(OR(ISBLANK(J44),ISBLANK(G44),ISBLANK(K44)),"",IFERROR(IF(K44=INDEX('EC Rates Auto Load '!$F$2:$K$154,MATCH(J44,'EC Rates Auto Load '!$C$2:$C$154,0),MONTH(G44)),"Correct Fx Rate","Incorrect FX Rate"),"Currency not found"))
K45: =+IFERROR(INDEX(Table5[],MATCH(DATE(YEAR(G45),MONTH(G45),1),Table5[Month],0),MATCH(J45,Table5[#Headers],0)),"Rate Not Found") -> Rate Not Found | L45: =IF(Table1[[#This Row],[Amount in original currency]]=0,"",(Table1[[#This Row],[Amount in original currency]]/Table1[[#This Row],[Exchange rate]])) | M45: =IF(ISBLANK(G45),"",IF(AND(G45>=$G$4,G45<=$I$4),"Within","Outside reporting period")) | N45: =IF(OR(ISBLANK(J45),ISBLANK(G45),ISBLANK(K45)),"",IFERROR(IF(K45=INDEX('EC Rates Auto Load '!$F$2:$K$154,MATCH(J45,'EC Rates Auto Load '!$C$2:$C$154,0),MONTH(G45)),"Correct Fx Rate","Incorrect FX Rate"),"Currency not found"))
K46: =+IFERROR(INDEX(Table5[],MATCH(DATE(YEAR(G46),MONTH(G46),1),Table5[Month],0),MATCH(J46,Table5[#Headers],0)),"Rate Not Found") -> Rate Not Found | L46: =IF(Table1[[#This Row],[Amount in original currency]]=0,"",(Table1[[#This Row],[Amount in original currency]]/Table1[[#This Row],[Exchange rate]])) | M46: =IF(ISBLANK(G46),"",IF(AND(G46>=$G$4,G46<=$I$4),"Within","Outside reporting period")) | N46: =IF(OR(ISBLANK(J46),ISBLANK(G46),ISBLANK(K46)),"",IFERROR(IF(K46=INDEX('EC Rates Auto Load '!$F$2:$K$154,MATCH(J46,'EC Rates Auto Load '!$C$2:$C$154,0),MONTH(G46)),"Correct Fx Rate","Incorrect FX Rate"),"Currency not found"))
K47: =+IFERROR(INDEX(Table5[],MATCH(DATE(YEAR(G47),MONTH(G47),1),Table5[Month],0),MATCH(J47,Table5[#Headers],0)),"Rate Not Found") -> Rate Not Found | L47: =IF(Table1[[#This Row],[Amount in original currency]]=0,"",(Table1[[#This Row],[Amount in original currency]]/Table1[[#This Row],[Exchange rate]])) | M47: =IF(ISBLANK(G47),"",IF(AND(G47>=$G$4,G47<=$I$4),"Within","Outside reporting period")) | N47: =IF(OR(ISBLANK(J47),ISBLANK(G47),ISBLANK(K47)),"",IFERROR(IF(K47=INDEX('EC Rates Auto Load '!$F$2:$K$154,MATCH(J47,'EC Rates Auto Load '!$C$2:$C$154,0),MONTH(G47)),"Correct Fx Rate","Incorrect FX Rate"),"Currency not found"))
K48: =+IFERROR(INDEX(Table5[],MATCH(DATE(YEAR(G48),MONTH(G48),1),Table5[Month],0),MATCH(J48,Table5[#Headers],0)),"Rate Not Found") -> Rate Not Found | L48: =IF(Table1[[#This Row],[Amount in original currency]]=0,"",(Table1[[#This Row],[Amount in original currency]]/Table1[[#This Row],[Exchange rate]])) | M48: =IF(ISBLANK(G48),"",IF(AND(G48>=$G$4,G48<=$I$4),"Within","Outside reporting period")) | N48: =IF(OR(ISBLANK(J48),ISBLANK(G48),ISBLANK(K48)),"",IFERROR(IF(K48=INDEX('EC Rates Auto Load '!$F$2:$K$154,MATCH(J48,'EC Rates Auto Load '!$C$2:$C$154,0),MONTH(G48)),"Correct Fx Rate","Incorrect FX Rate"),"Currency not found"))
K49: =+IFERROR(INDEX(Table5[],MATCH(DATE(YEAR(G49),MONTH(G49),1),Table5[Month],0),MATCH(J49,Table5[#Headers],0)),"Rate Not Found") -> Rate Not Found | L49: =IF(Table1[[#This Row],[Amount in original currency]]=0,"",(Table1[[#This Row],[Amount in original currency]]/Table1[[#This Row],[Exchange rate]])) | M49: =IF(ISBLANK(G49),"",IF(AND(G49>=$G$4,G49<=$I$4),"Within","Outside reporting period")) | N49: =IF(OR(ISBLANK(J49),ISBLANK(G49),ISBLANK(K49)),"",IFERROR(IF(K49=INDEX('EC Rates Auto Load '!$F$2:$K$154,MATCH(J49,'EC Rates Auto Load '!$C$2:$C$154,0),MONTH(G49)),"Correct Fx Rate","Incorrect FX Rate"),"Currency not found"))
K50: =+IFERROR(INDEX(Table5[],MATCH(DATE(YEAR(G50),MONTH(G50),1),Table5[Month],0),MATCH(J50,Table5[#Headers],0)),"Rate Not Found") -> Rate Not Found | L50: =IF(Table1[[#This Row],[Amount in original currency]]=0,"",(Table1[[#This Row],[Amount in original currency]]/Table1[[#This Row],[Exchange rate]])) | M50: =IF(ISBLANK(G50),"",IF(AND(G50>=$G$4,G50<=$I$4),"Within","Outside reporting period")) | N50: =IF(OR(ISBLANK(J50),ISBLANK(G50),ISBLANK(K50)),"",IFERROR(IF(K50=INDEX('EC Rates Auto Load '!$F$2:$K$154,MATCH(J50,'EC Rates Auto Load '!$C$2:$C$154,0),MONTH(G50)),"Correct Fx Rate","Incorrect FX Rate"),"Currency not found"))
K51: =+IFERROR(INDEX(Table5[],MATCH(DATE(YEAR(G51),MONTH(G51),1),Table5[Month],0),MATCH(J51,Table5[#Headers],0)),"Rate Not Found") -> Rate Not Found | L51: =IF(Table1[[#This Row],[Amount in original currency]]=0,"",(Table1[[#This Row],[Amount in original currency]]/Table1[[#This Row],[Exchange rate]])) | M51: =IF(ISBLANK(G51),"",IF(AND(G51>=$G$4,G51<=$I$4),"Within","Outside reporting period")) | N51: =IF(OR(ISBLANK(J51),ISBLANK(G51),ISBLANK(K51)),"",IFERROR(IF(K51=INDEX('EC Rates Auto Load '!$F$2:$K$154,MATCH(J51,'EC Rates Auto Load '!$C$2:$C$154,0),MONTH(G51)),"Correct Fx Rate","Incorrect FX Rate"),"Currency not found"))
K52: =+IFERROR(INDEX(Table5[],MATCH(DATE(YEAR(G52),MONTH(G52),1),Table5[Month],0),MATCH(J52,Table5[#Headers],0)),"Rate Not Found") -> Rate Not Found | L52: =IF(Table1[[#This Row],[Amount in original currency]]=0,"",(Table1[[#This Row],[Amount in original currency]]/Table1[[#This Row],[Exchange rate]])) | M52: =IF(ISBLANK(G52),"",IF(AND(G52>=$G$4,G52<=$I$4),"Within","Outside reporting period")) | N52: =IF(OR(ISBLANK(J52),ISBLANK(G52),ISBLANK(K52)),"",IFERROR(IF(K52=INDEX('EC Rates Auto Load '!$F$2:$K$154,MATCH(J52,'EC Rates Auto Load '!$C$2:$C$154,0),MONTH(G52)),"Correct Fx Rate","Incorrect FX Rate"),"Currency not found"))
K53: =+IFERROR(INDEX(Table5[],MATCH(DATE(YEAR(G53),MONTH(G53),1),Table5[Month],0),MATCH(J53,Table5[#Headers],0)),"Rate Not Found") -> Rate Not Found | L53: =IF(Table1[[#This Row],[Amount in original currency]]=0,"",(Table1[[#This Row],[Amount in original currency]]/Table1[[#This Row],[Exchange rate]])) | M53: =IF(ISBLANK(G53),"",IF(AND(G53>=$G$4,G53<=$I$4),"Within","Outside reporting period")) | N53: =IF(OR(ISBLANK(J53),ISBLANK(G53),ISBLANK(K53)),"",IFERROR(IF(K53=INDEX('EC Rates Auto Load '!$F$2:$K$154,MATCH(J53,'EC Rates Auto Load '!$C$2:$C$154,0),MONTH(G53)),"Correct Fx Rate","Incorrect FX Rate"),"Currency not found"))
... K197: =+IFERROR(INDEX(Table5[],MATCH(DATE(YEAR(G197),MONTH(G197),1),Table5[Month],0),MATCH(J197,Table5[#Headers],0)),"Rate Not Found") -> Rate Not Found | L197: =IF(Table1[[#This Row],[Amount in original currency]]=0,"",(Table1[[#This Row],[Amount in original currency]]/Table1[[#This Row],[Exchange rate]])) | M197: =IF(ISBLANK(G197),"",IF(AND(G197>=$G$4,G197<=$I$4),"Within","Outside reporting period")) | N197: =IF(OR(ISBLANK(J197),ISBLANK(G197),ISBLANK(K197)),"",IFERROR(IF(K197=INDEX('EC Rates Auto Load '!$F$2:$K$154,MATCH(J197,'EC Rates Auto Load '!$C$2:$C$154,0),MONTH(G197)),"Correct Fx Rate","Incorrect FX Rate"),"Currency not found"))

Sheet Interim report 
A2: Interim Financial Report | B2: Report No. | C2: ='Coversheet & Instructions'!F28 -> IR1 | G2: Action Title | H2: ='Coversheet & Instructions'!C2 -> Action Title
B3: Report Start Date | C3: =VLOOKUP(C2,'Coversheet & Instructions'!B20:D29,2,FALSE) -> 46204 | D3: Report End Date | E3: =VLOOKUP(C2,'Coversheet & Instructions'!B20:D29,3,FALSE) -> 46568 | G3: Grant Contract No. | H3: ='Coversheet & Instructions'!C3 -> Grant Contract No.
G4: Grant Contract Implementation Period | H4: Start Date | I4: ='Coversheet & Instructions'!E4 -> 46204 | J4: End Date | K4: ='Coversheet & Instructions'!G4 -> 47664
B6: Budget as per contract/addendum | F6: Reallocation | G6: Expenditure incurred | L6: Forecast | O6: Balance
B7: Unit | C7: # Units | D7: Unit rate (in EUR) | E7: Total Cost (in EUR) | F7: allowed reallocation (Article 9.4 of the GC) | G7: # Units | H7: Unit rate (in EUR) | I7: Total Cost (in EUR) | J7: Cumulated costs (before current report) (in EUR) | K7: Cumulated costs (from start of implementation to present report included) (in EUR) | L7: # Units | M7: Unit rate (in EUR) | N7: Total Cost (in EUR)
C8: (a) | D8: (b) | E8: (c) = a*b | G8: (d) | H8: (e) | I8: (f) = d*e | J8: (g) | K8: (h) = f+g | L8: (i) | M8: (j) | N8: (k) = i*j | O8: (l) = c-h-k
A9: 1. Human Resources (gross salaries including social security charges and other related costs, local and international staff)
A10: 1.1 XXX | E10: =C10*D10 -> 0 | I10: =G10*H10 -> 0 | K10: =I10+J10 -> 0 | N10: =L10*M10 -> 0 | O10: =E10-K10-N10 -> 0
A11: 1.2 XXX | E11: =C11*D11 -> 0 | I11: =G11*H11 -> 0 | K11: =I11+J11 -> 0 | N11: =L11*M11 -> 0 | O11: =E11-K11-N11 -> 0
A12: Subtotal Human Resources | E12: =SUM(E9:E11) -> 0 | I12: =SUM(I9:I11) -> 0 | J12: =SUM(J9:J11) -> 0 | K12: =SUM(K9:K11) -> 0 | N12: =SUM(N9:N11) -> 0 | O12: =E12-K12-N12 -> 0
A13: 2. Travel
A14: International travel
A15: 2.1 XXX | E15: =C15*D15 -> 0 | I15: =G15*H15 -> 0 | K15: =I15+J15 -> 0 | N15: =L15*M15 -> 0 | O15: =E15-K15-N15 -> 0
A16: 2.2 Travel related costs (visas, translation for visas, etc.) | E16: =C16*D16 -> 0 | I16: =G16*H16 -> 0 | K16: =I16+J16 -> 0 | N16: =L16*M16 -> 0 | O16: =E16-K16-N16 -> 0
A17: Local transportation
A18: 2.3 XXX | E18: =C18*D18 -> 0 | I18: =G18*H18 -> 0 | K18: =I18+J18 -> 0 | N18: =L18*M18 -> 0 | O18: =E18-K18-N18 -> 0
A19: 2.4 XXX | E19: =C19*D19 -> 0 | I19: =G19*H19 -> 0 | K19: =I19+J19 -> 0 | N19: =L19*M19 -> 0 | O19: =E19-K19-N19 -> 0
A20: Per diems/DSA for missions/travel
A21: 2.5 Abroad/International per diem | E21: =C21*D21 -> 0 | I21: =G21*H21 -> 0 | K21: =I21+J21 -> 0 | N21: =L21*M21 -> 0 | O21: =E21-K21-N21 -> 0
A22: 2.6 Local/in-country per diem | E22: =C22*D22 -> 0 | I22: =G22*H22 -> 0 | K22: =I22+J22 -> 0 | N22: =L22*M22 -> 0 | O22: =E22-K22-N22 -> 0
A23: Subtotal Travel | E23: =SUM(E13:E22) -> 0 | I23: =SUM(I13:I22) -> 0 | J23: =SUM(J13:J22) -> 0 | K23: =SUM(K13:K22) -> 0 | N23: =SUM(N13:N22) -> 0 | O23: =E23-K23-N23 -> 0
A24: 3. Other Direct Costs
A25: Purchase or rent of vehicles
A26: 3.1 XXX | E26: =C26*D26 -> 0 | I26: =G26*H26 -> 0 | K26: =I26+J26 -> 0 | N26: =L26*M26 -> 0 | O26: =E26-K26-N26 -> 0
A27: Computer equipment and other machinery, tools, and related spare parts/accessories
A28: 3.2 XXX | E28: =C28*D28 -> 0 | I28: =G28*H28 -> 0 | K28: =I28+J28 -> 0 | N28: =L28*M28 -> 0 | O28: =E28-K28-N28 -> 0
A29: Office costs
A30: 3.5 Office rent | E30: =C30*D30 -> 0 | I30: =G30*H30 -> 0 | K30: =I30+J30 -> 0 | N30: =L30*M30 -> 0 | O30: =E30-K30-N30 -> 0
A31: 3.6 Office supplies, services and utilities (tel/internet, electricity/heating, maintenance) | E31: =C31*D31 -> 0 | I31: =G31*H31 -> 0 | K31: =I31+J31 -> 0 | N31: =L31*M31 -> 0 | O31: =E31-K31-N31 -> 0
A32: Publications, studies, research
A33: 3.7 XXX | E33: =C33*D33 -> 0 | I33: =G33*H33 -> 0 | K33: =I33+J33 -> 0 | N33: =L33*M33 -> 0 | O33: =E33-K33-N33 -> 0
A34: Translation, interpreting
A35: 3.8 XX | E35: =C35*D35 -> 0 | I35: =G35*H35 -> 0 | K35: =I35+J35 -> 0 | N35: =L35*M35 -> 0 | O35: =E35-K35-N35 -> 0
A36: 3.9 Interpreting | E36: =C36*D36 -> 0 | I36: =G36*H36 -> 0 | K36: =I36+J36 -> 0 | N36: =L36*M36 -> 0 | O36: =E36-K36-N36 -> 0
A37: 3.10 Interpreting equipment (booths, headphones, etc.) | E37: =C37*D37 -> 0 | I37: =G37*H37 -> 0 | K37: =I37+J37 -> 0 | N37: =L37*M37 -> 0 | O37: =E37-K37-N37 -> 0
A38: Costs of conferences/seminars/other events
A39: 3.11 XXX | E39: =C39*D39 -> 0 | I39: =G39*H39 -> 0 | K39: =I39+J39 -> 0 | N39: =L39*M39 -> 0 | O39: =E39-K39-N39 -> 0
A40: Costs of trainings/capacity building
A41: 3.12 XXX | E41: =C41*D41 -> 0 | I41: =G41*H41 -> 0 | K41: =I41+J41 -> 0 | N41: =L41*M41 -> 0 | O41: =E41-K41-N41 -> 0
A42: Communication and Visibility actions, tools, materials, and platforms
...

Sheet Final report
A2: Final financial report | B2: Report No. | C2: Final Report | G2: Action Title | H2: ='Coversheet & Instructions'!C2 -> Action Title
B3: Start Date | C3: =VLOOKUP(C2,'Coversheet & Instructions'!B20:D29,2,FALSE) -> 47300 | D3: End Date | E3: =VLOOKUP(C2,'Coversheet & Instructions'!B20:D29,3,FALSE) -> 47664 | G3: Grant Contract No. | H3: ='Coversheet & Instructions'!C3 -> Grant Contract No.
G4: Implementation Period | H4: Start Date | I4: ='Coversheet & Instructions'!E4 -> 46204 | J4: End Date | K4: ='Coversheet & Instructions'!G4 -> 47664
B6: Budget as per contract/addendum | F6: Reallocation | G6: Expenditure incurred | L6: Variations in comparison with initial budget/addendum
B7: Unit | C7: # Units | D7: Unit rate (in EUR) | E7: Total Cost (in EUR) | F7: allowed reallocation (Article 9.4 of the GC) | G7: # Units | H7: Unit rate (in EUR) | I7: Total Cost (in EUR) | J7: Cumulated costs (before current report) (in EUR) | K7: Cumulated costs (from start of implementation to present report included) (in EUR) | L7: Absolute value in EUR | M7: In % | N7: Explanation for all variations
C8: (a) | D8: (b) | E8: (c) = a*b | G8: (d) | H8: (e) | I8: (f) = d*e | J8: (g) | K8: (h) = f+g | L8: (i) = c-h | M8: (j) = h/c
A9: 1. Human Resources (gross salaries including social security charges and other related costs, local and international staff)
A10: 1.1 XXX | E10: =C10*D10 -> 0 | I10: =G10*H10 -> 0 | K10: =I10+J10 -> 0 | L10: =E10-K10 -> 0 | M10: =K10/E10 -> #DIV/0!
A11: 1.2 XXX | E11: =C11*D11 -> 0 | I11: =G11*H11 -> 0 | K11: =I11+J11 -> 0 | L11: =E11-K11 -> 0 | M11: =K11/E11 -> #DIV/0!
A12: Subtotal Human Resources | E12: =SUM(E9:E11) -> 0 | I12: =SUM(I9:I11) -> 0 | J12: =SUM(J9:J11) -> 0 | K12: =SUM(K9:K11) -> 0 | L12: =E12-K12 -> 0 | M12: =K12/E12 -> #DIV/0!
A13: 2. Travel
A14: International travel
A15: 2.1 XXX | E15: =C15*D15 -> 0 | I15: =G15*H15 -> 0 | K15: =I15+J15 -> 0 | L15: =E15-K15 -> 0 | M15: =K15/E15 -> #DIV/0!
A16: 2.2 Travel related costs (visas, translation for visas, etc.) | E16: =C16*D16 -> 0 | I16: =G16*H16 -> 0 | K16: =I16+J16 -> 0 | L16: =E16-K16 -> 0 | M16: =K16/E16 -> #DIV/0!
A17: Local transportation
A18: 2.3 XXX | E18: =C18*D18 -> 0 | I18: =G18*H18 -> 0 | K18: =I18+J18 -> 0 | L18: =E18-K18 -> 0 | M18: =K18/E18 -> #DIV/0!
A19: 2.4 XXX | E19: =C19*D19 -> 0 | I19: =G19*H19 -> 0 | K19: =I19+J19 -> 0 | L19: =E19-K19 -> 0 | M19: =K19/E19 -> #DIV/0!
A20: Per diems/DSA for missions/travel
A21: 2.5 Abroad/International per diem | E21: =C21*D21 -> 0 | I21: =G21*H21 -> 0 | K21: =I21+J21 -> 0 | L21: =E21-K21 -> 0 | M21: =K21/E21 -> #DIV/0!
A22: 2.6 Local/in-country per diem | E22: =C22*D22 -> 0 | I22: =G22*H22 -> 0 | K22: =I22+J22 -> 0 | L22: =E22-K22 -> 0 | M22: =K22/E22 -> #DIV/0!
A23: Subtotal Travel | E23: =SUM(E13:E22) -> 0 | I23: =SUM(I13:I22) -> 0 | J23: =SUM(J13:J22) -> 0 | K23: =SUM(K13:K22) -> 0 | L23: =E23-K23 -> 0 | M23: =K23/E23 -> #DIV/0!
A24: 3. Other Direct Costs
A25: Purchase or rent of vehicles
A26: 3.1 XXX | E26: =C26*D26 -> 0 | I26: =G26*H26 -> 0 | K26: =I26+J26 -> 0 | L26: =E26-K26 -> 0 | M26: =K26/E26 -> #DIV/0!
A27: Computer equipment and other machinery, tools, and related spare parts/accessories
A28: 3.2 XXX | E28: =C28*D28 -> 0 | I28: =G28*H28 -> 0 | K28: =I28+J28 -> 0 | L28: =E28-K28 -> 0 | M28: =K28/E28 -> #DIV/0!
A29: Office costs
A30: 3.5 Office rent | E30: =C30*D30 -> 0 | I30: =G30*H30 -> 0 | K30: =I30+J30 -> 0 | L30: =E30-K30 -> 0 | M30: =K30/E30 -> #DIV/0!
A31: 3.6 Office supplies, services and utilities (tel/internet, electricity/heating, maintenance) | E31: =C31*D31 -> 0 | I31: =G31*H31 -> 0 | K31: =I31+J31 -> 0 | L31: =E31-K31 -> 0 | M31: =K31/E31 -> #DIV/0!
A32: Publications, studies, research
A33: 3.7 XXX | E33: =C33*D33 -> 0 | I33: =G33*H33 -> 0 | K33: =I33+J33 -> 0 | L33: =E33-K33 -> 0 | M33: =K33/E33 -> #DIV/0!
A34: Translation, interpreting
A35: 3.8 XX | E35: =C35*D35 -> 0 | I35: =G35*H35 -> 0 | K35: =I35+J35 -> 0 | L35: =E35-K35 -> 0 | M35: =K35/E35 -> #DIV/0!
A36: 3.9 Interpreting | E36: =C36*D36 -> 0 | I36: =G36*H36 -> 0 | K36: =I36+J36 -> 0 | L36: =E36-K36 -> 0 | M36: =K36/E36 -> #DIV/0!
A37: 3.10 Interpreting equipment (booths, headphones, etc.) | E37: =C37*D37 -> 0 | I37: =G37*H37 -> 0 | K37: =I37+J37 -> 0 | L37: =E37-K37 -> 0 | M37: =K37/E37 -> #DIV/0!
A38: Costs of conferences/seminars/other events
A39: 3.11 XXX | E39: =C39*D39 -> 0 | I39: =G39*H39 -> 0 | K39: =I39+J39 -> 0 | L39: =E39-K39 -> 0 | M39: =K39/E39 -> #DIV/0!
A40: Costs of trainings/capacity building
A41: 3.12 XXX | E41: =C41*D41 -> 0 | I41: =G41*H41 -> 0 | K41: =I41+J41 -> 0 | L41: =E41-K41 -> 0 | M41: =K41/E41 -> #DIV/0!
A42: Communication and Visibility actions, tools, materials, and platforms
...

Sheet  Final sources of funding
A1: Final sources of funding and budget management
C3: Amount (EUR) | D3: Percentage (%) of Total Eligible Costs
A4: Final sources of funding
A6: EU contribution via ICMPD received | D6: =IFERROR(C6/C22,0) -> 0
A8: Other contributions (Grant Coordinator, Co-Beneficiiaries, other Donors etc.) | C8: =C12+C13+C17+C18 -> 0 | D8: =IFERROR(C8/C22,0) -> 0
A9: Breakdown of other contributions:
A10: 1. Cash Contributions
A11: Name of entity contributing | B11: Description of the contribution and conditions (if any)
A15: 2. Non- Cash /In-kind contribution
A16: Name of entity contributing | B16: Description of the contribution and conditions (if any) and reference to budget line
A20: Total Eligible Costs
A22: TOTAL ELIGIBLE COSTS | D22: =IFERROR(C22/C22,0) -> 0
D24: Budget Percentage %
A26: Budget Management
A27: Please indicate in the below table the approximate % of budget that each applicant/co-applicant managed respectively
A28: Coordinator | D28: 0
A29: Co-Beneficiary 1 | D29: 0
A30: Co-Beneficiary 2 | D30: 0
A31: Co-Beneficiary... | D31: 0
D33: =IFERROR(SUM(D28:D31),0) -> 0
A35: List of Pending payments (above 500€)
A36: Please list the following details: Name of the provider, Object of the contract (Final Audit, Works execution guarantee…), Amount in €, Due date, Reference document (Date and number of Invoice/ contract), Explanation and comments (why still not paid?)
A38: Name of the provider | B38: Object of the contract | C38: Amount in EUR | D38: Due date | E38: Reference document | F38: Explanation and comments
A42: We herewith commit to refund to ICMPD, according to art. 18 of the General Conditions, any amount for which proof of payment cannot be provided upon request after the due date, unless reasonable justification is provided.
E44: Signed
E46: ______________________________

Sheet Addenda or use of contingencies
A1: Addenda or use of contingencies
B2: Grant Contract No.:
B3: Implementation period of the contract: (dd/mm/yyyy-dd/mm/yyyy)
B5: Budget as per contract/last addendum signed | F5: Use of contingencies/ addenda | G5: Budget as per new addendum signed (Only to be completed when an amendment is necessary)
D6: Unit rate (in EUR) | E6: Total Cost (in EUR) | I6: Unit rate (in EUR) | J6: Total Cost (in EUR)
A7: Expenditures | B7: Unit | C7: # Units | G7: Unit | H7: # Units
C8: (a) | D8: (b) | E8: (a)*(b) | H8: (a) | I8: (b) | J8: (a)*(b)
A9: 1. Human Resources (gross salaries including social security charges and other related costs, local and international staff)
A10: 1.1 XXX | E10: =C10*D10 -> 0 | J10: =H10*I10 -> 0
A11: 1.2 XXX | E11: =C11*D11 -> 0 | J11: =H11*I11 -> 0
A12: Subtotal Human Resources | E12: =SUM(E9:E11) -> 0 | J12: =SUM(J9:J11) -> 0
A13: 2. Travel
A14: International travel
A15: 2.1 XXX | E15: =C15*D15 -> 0 | J15: =H15*I15 -> 0
A16: 2.2 Travel related costs (visas, translation for visas, etc.) | E16: =C16*D16 -> 0 | J16: =H16*I16 -> 0
A17: Local transportation
A18: 2.3 XXX | E18: =C18*D18 -> 0 | J18: =H18*I18 -> 0
A19: 2.4 XXX | E19: =C19*D19 -> 0 | J19: =H19*I19 -> 0
A20: Per diems/DSA for missions/travel
A21: 2.5 Abroad/International per diem | E21: =C21*D21 -> 0 | J21: =H21*I21 -> 0
A22: 2.6 Local/in-country per diem | E22: =C22*D22 -> 0 | J22: =H22*I22 -> 0
A23: Subtotal Travel | E23: =SUM(E13:E22) -> 0 | J23: =SUM(J13:J22) -> 0
A24: 3. Other Direct Costs
A25: Purchase or rent of vehicles
A26: 3.1 XXX | E26: =C26*D26 -> 0 | J26: =H26*I26 -> 0
A27: Computer equipment and other machinery, tools, and related spare parts/accessories
A28: 3.2 XXX | E28: =C28*D28 -> 0 | J28: =H28*I28 -> 0
A29: Office costs
A30: 3.5 Office rent | E30: =C30*D30 -> 0 | J30: =H30*I30 -> 0
A31: 3.6 Office supplies, services and utilities (tel/internet, electricity/heating, maintenance) | E31: =C31*D31 -> 0 | J31: =H31*I31 -> 0
A32: Publications, studies, research
A33: 3.7 XXX | E33: =C33*D33 -> 0 | J33: =H33*I33 -> 0
A34: Translation, interpreting
A35: 3.8 XX | E35: =C35*D35 -> 0 | J35: =H35*I35 -> 0
A36: 3.9 Interpreting | E36: =C36*D36 -> 0 | J36: =H36*I36 -> 0
A37: 3.10 Interpreting equipment (booths, headphones, etc.) | E37: =C37*D37 -> 0 | J37: =H37*I37 -> 0
A38: Costs of conferences/seminars/other events
A39: 3.11 XXX | E39: =C39*D39 -> 0 | J39: =H39*I39 -> 0
A40: Costs of trainings/capacity building
A41: 3.12 XXX | E41: =C41*D41 -> 0 | J41: =H41*I41 -> 0
...

Sheet EC Rates Auto Load 
A1: country | B1: currency | C1: isoA3Code | D1: isoA2Code | E1: comment | F1: 1 | G1: 2 | H1: 3 | I1: 4 | J1: 5 | K1: 6
A2: United Arab Emirates | B2: United Arab Emirates dirham | C2: AED | D2: AE | F2: 4.32385 | G2: 4.3907 | H2: 4.33805 | I2: 4.22785 | J2: 4.30215 | K2: 4.27035
A3: Afghanistan | B3: Afghan afghani | C3: AFN | D3: AF | F3: 77.745 | G3: 78.335 | H3: 75.15 | I3: 73.755 | J3: 75.38 | K3: 74.3
A4: Albania | B4: Albanian lek | C4: ALL | D4: AL | F4: 96.385 | G4: 96.885 | H4: 96.4 | I4: 95.965 | J4: 95.555 | K4: 95.36
A5: Armenia | B5: Armenian dram | C5: AMD | D5: AM | F5: 449 | G5: 445 | H5: 444 | I5: 434.5 | J5: 432.5 | K5: 431
A6: Angola | B6: Angolan kwanza | C6: AOA | D6: AO | F6: 1081.875 | G6: 1098.375 | H6: 1083.025 | I6: 1057.575 | J6: 1077.335 | K6: 1069.38
A7: Argentina | B7: Argentine peso | C7: ARS | D7: AR | F7: 1712.9949 | G7: 1728.7776 | H7: 1651.0065 | I7: 1591.1082 | J7: 1644.4003 | K7: 1640.6108
A8: Australia | B8: Australian dollar | C8: AUD | D8: AU | E8: Australian dollar: Also in use for Christmas Island (CX), Cocos (Keeling) Islands (CC), Kiribati (KI), Nauru (NR), Norfolk Island (NF), Tuvalu (TV). | F8: 1.7543 | G8: 1.6935 | H8: 1.6592 | I8: 1.674 | J8: 1.6344 | K8: 1.6318
A9: Aruba | B9: Aruban florin | C9: AWG | D9: AW | F9: 2.12802 | G9: 2.16621 | H9: 2.13833 | I9: 2.0786 | J9: 2.11879 | K9: 2.10268
A10: Azerbaijan | B10: Azerbaijan Manat | C10: AZN | D10: AZ | F10: 1.99869 | G10: 2.03456 | H10: 2.00838 | I10: 1.95228 | J10: 1.99002 | K10: 1.97489
A11: Bosnia and Herzegovina | B11: Bosnia and Herzegovina convertible mark | C11: BAM | D11: BA | F11: 1.95583 | G11: 1.95583 | H11: 1.95583 | I11: 1.95583 | J11: 1.95583 | K11: 1.95583
A12: Barbados | B12: Barbados dollar | C12: BBD | D12: BB | F12: 2.36798 | G12: 2.41047 | H12: 2.37946 | I12: 2.31299 | J12: 2.35771 | K12: 2.33978
A13: Bangladesh | B13: Bangladeshi taka | C13: BDT | D13: BD | F13: 143.77635 | G13: 146.24896 | H13: 144.36708 | I13: 140.90868 | J13: 143.95454 | K13: 142.59868
A14: Bulgaria | B14: Bulgarian lev | C14: BGN | D14: BG | F14: 1.9558
A15: Bahrain | B15: Bahraini dinar | C15: BHD | D15: BH | F15: 0.4433 | G15: 0.45119 | H15: 0.44544 | I15: 0.43481 | J15: 0.44161 | K15: 0.43796
A16: Burundi | B16: Burundi franc | C16: BIF | D16: BI | F16: 3482.436 | G16: 3541.339 | H16: 3503.5155 | I16: 3419.405 | J16: 3484.6695 | K16: 3463.237
A17: Bermuda | B17: Bermudian dollar | C17: BMD | D17: BM | F17: 1.1757 | G17: 1.1968 | H17: 1.1814 | I17: 1.1484 | J17: 1.1706 | K17: 1.1617
A18: Brunei | B18: Brunei dollar | C18: BND | D18: BN | F18: 1.5135 | G18: 1.509 | H18: 1.49245 | I18: 1.48365 | J18: 1.4954 | K18: 1.48505
A19: Bolivia | B19: Bolivian boliviano | C19: BOB | D19: BO | F19: 8.15348 | G19: 8.29981 | H19: 8.1812 | I19: 7.95267 | J19: 8.10641 | K19: 8.05639
A20: Brazil | B20: Brazilian real | C20: BRL | D20: BR | E20: Brazilian real: This currency can not be used to effect international payments of the Commission. | F20: 6.4929 | G20: 6.2011 | H20: 6.0556 | I20: 6.0179 | J20: 5.8359 | K20: 5.8928
A21: Bahamas (the) | B21: Bahamian dollar | C21: BSD | D21: BS | F21: 1.1757 | G21: 1.1968 | H21: 1.1814 | I21: 1.1484 | J21: 1.1706 | K21: 1.1617
A22: Bhutan | B22: Bhutanese ngultrum | C22: BTN | D22: BT | F22: 105.58 | G22: 110.007 | H22: 107.421 | I22: 108.7686 | J22: 111.0315 | K22: 111.1705
A23: Botswana | B23: Botswana pula | C23: BWP | D23: BW | F23: 16.53439 | G23: 15.59539 | H23: 16.20089 | I23: 15.79954 | J23: 15.75299 | K23: 15.5739
A24: Belarus | B24: Belarussian rouble | C24: BYN | D24: BY | F24: 3.41875 | G24: 3.3989 | H24: 3.38655 | I24: 3.42125 | J24: 3.3126 | K24: 3.1971
A25: Belize | B25: Belize dollar | C25: BZD | D25: BZ | F25: 2.36457 | G25: 2.407 | H25: 2.37603 | I25: 2.30966 | J25: 2.35431 | K25: 2.33641
A26: Canada | B26: Canadian dollar | C26: CAD | D26: CA | F26: 1.6104 | G26: 1.6186 | H26: 1.6155 | I26: 1.5987 | J26: 1.6007 | K26: 1.6094
A27: Congo (Democratic Republic of) | B27: Congolese franc | C27: CDF | D27: CD | F27: 2548.745 | G27: 2746.44 | H27: 2658.135 | I27: 2664.86 | J27: 2729.015 | K27: 2656.555
A28: Switzerland | B28: Swiss franc | C28: CHF | D28: CH | E28: Swiss franc: Also in use for Liechtenstein (LI). | F28: 0.9293 | G28: 0.9182 | H28: 0.914 | I28: 0.9187 | J28: 0.9236 | K28: 0.9167
A29: Chile | B29: Chilean peso | C29: CLP | D29: CL | F29: 1075.7655 | G29: 1036.0099 | H29: 1012.6311 | I29: 1060.2201 | J29: 1040.6283 | K29: 1038.6527
A30: China | B30: Chinese Yuan Renminbi | C30: CNY | D30: CN | E30: Chinese yuan: This currency can not be used to effect international payments of the Commission. | F30: 8.2216 | G30: 8.3132 | H30: 8.0823 | I30: 7.937 | J30: 7.9993 | K30: 7.8762
A31: Colombia | B31: Colombian peso | C31: COP | D31: CO | E31: Colombian peso: This currency can not be used to effect international payments of the Commission. | F31: 4406.8763 | G31: 4395.7806 | H31: 4355.8218 | I31: 4219.3881 | J31: 4218.8424 | K31: 4216.1462
A32: Costa Rica | B32: Costa Rican colón | C32: CRC | D32: CR | F32: 583.72329 | G32: 592.1168 | H32: 561.13547 | I32: 534.03471 | J32: 532.53521 | K32: 527.44084
A33: Cuba | B33: Cuban peso | C33: CUP | D33: CU | F33: 28.254 | G33: 28.6896 | H33: 28.3452 | I33: 27.624 | J33: 28.11 | K33: 27.9024
A34: Cape Verde | B34: Cape Verde escudo | C34: CVE | D34: CV | F34: 110.265 | G34: 110.265 | H34: 110.265 | I34: 110.265 | J34: 110.265 | K34: 110.265
A35: Czechia | B35: Czech koruna | C35: CZK | D35: CZ | F35: 24.255 | G35: 24.335 | H35: 24.246 | I35: 24.555 | J35: 24.382 | K35: 24.293
A36: Djibouti | B36: Djibouti franc | C36: DJF | D36: DJ | F36: 209.36278 | G36: 213.12016 | H36: 210.37781 | I36: 204.50133 | J36: 208.4546 | K36: 206.86973
A37: Denmark | B37: Danish krone | C37: DKK | D37: DK | E37: Danish krone: Also in use for Faeroe Islands (FO), Greenland (GL). | F37: 7.4689 | G37: 7.4668 | H37: 7.4719 | I37: 7.4727 | J37: 7.4727 | K37: 7.4729
A38: Dominican Republic | B38: Dominican peso | C38: DOP | D38: DO | F38: 74.1079 | G38: 75.107 | H38: 71.45355 | I38: 68.72625 | J38: 69.1975 | K38: 67.8145
A39: Algeria | B39: Algerian dinar | C39: DZD | D39: DZ | F39: 152.37 | G39: 154.23125 | H39: 153.0877 | I39: 153.2275 | J39: 155.18 | K39: 155.1165
A40: Egypt | B40: Egyptian pound | C40: EGP | D40: EG | F40: 56.11951 | G40: 55.9806 | H40: 56.66679 | I40: 60.65771 | J40: 61.87715 | K40: 60.71099
...
